BEGIN:VCALENDAR
VERSION:2.0
PRODID:-//Brahma Kumaris Gomti Nagar - ECPv4.9.3.2//NONSGML v1.0//EN
CALSCALE:GREGORIAN
METHOD:PUBLISH
X-WR-CALNAME:Brahma Kumaris Gomti Nagar
X-ORIGINAL-URL:https://gomtinagar.bk.ooo
X-WR-CALDESC:Events for Brahma Kumaris Gomti Nagar
BEGIN:VEVENT
DTSTART;TZID=UTC+0:20170224T100000
DTEND;TZID=UTC+0:20170224T130000
DTSTAMP:20260425T205350
CREATED:20170212T074752Z
LAST-MODIFIED:20170212T074752Z
UID:225-1487930400-1487941200@gomtinagar.bk.ooo
SUMMARY:MahaShivratri Celebration
DESCRIPTION: \n
URL:https://gomtinagar.bk.ooo/?tribe_events=mahashivratri-celebration
LOCATION:Brahmakumris’s Gomtinagar center\, Institutional Area-III/IV Vipul Khand-6\, Gomati Nagar\, Lucknow\, Uttar Pradesh\, 226010\, India
END:VEVENT
END:VCALENDAR