BEGIN:VCALENDAR
VERSION:2.0
PRODID:-//Brahma Kumaris Gomti Nagar - ECPv4.9.3.2//NONSGML v1.0//EN
CALSCALE:GREGORIAN
METHOD:PUBLISH
X-WR-CALNAME:Brahma Kumaris Gomti Nagar
X-ORIGINAL-URL:https://gomtinagar.bk.ooo
X-WR-CALDESC:Events for Brahma Kumaris Gomti Nagar
BEGIN:VEVENT
DTSTART;TZID=UTC+0:20170910T170000
DTEND;TZID=UTC+0:20170910T170000
DTSTAMP:20260425T181701
CREATED:20170831T075051Z
LAST-MODIFIED:20170831T075051Z
UID:288-1505062800-1505062800@gomtinagar.bk.ooo
SUMMARY:3D Health Care for Healthy Mind\, Heart & Camp; Body
DESCRIPTION: \n
URL:https://gomtinagar.bk.ooo/?tribe_events=3d-health-care-for-healthy-mind-heart-body
LOCATION:3D Health Care for Healthy Mind\, Heart & Body\, City Montessori School\, Vishal Khand\, \, Gomti Nagar\, Lucknow\, UP\, India
ATTACH;FMTTYPE=image/jpeg:https://gomtinagar.bk.ooo/wp-content/uploads/sites/75/2017/08/Photo-30-08-17-1-30-54-PM.jpg
END:VEVENT
END:VCALENDAR